BEGIN:VCALENDAR
PRODID:-//eluceo/ical//2.0/EN
VERSION:2.0
CALSCALE:GREGORIAN
BEGIN:VEVENT
UID:9f008b087eedcd56ad14b23e37992e80
DTSTAMP:20260421T101941Z
SUMMARY:Mitgliederversammlung
DESCRIPTION:Zahlen und Fakten - Rückblicke und Vorschau\n 
URL:https://www.ogv-kreisverband-regensburg.de/terminreader/mitgliederversa
 mmlung-3
DTSTART:20260425T000000
DTEND:20260425T235959
LOCATION:
END:VEVENT
BEGIN:VTIMEZONE
TZID:Europe/Berlin
BEGIN:DAYLIGHT
DTSTART:20260425T000000
TZNAME:CEST
TZOFFSETTO:+0200
TZOFFSETFROM:+0200
END:DAYLIGHT
END:VTIMEZONE
END:VCALENDAR
